BEGIN:VCALENDAR
VERSION:2.0
PRODID:-//NADI Pengkalan Hulu - ECPv6.15.20//NONSGML v1.0//EN
CALSCALE:GREGORIAN
METHOD:PUBLISH
X-WR-CALNAME:NADI Pengkalan Hulu
X-ORIGINAL-URL:https://kelabpetanda.nadi.my
X-WR-CALDESC:Events for NADI Pengkalan Hulu
REFRESH-INTERVAL;VALUE=DURATION:PT1H
X-Robots-Tag:noindex
X-PUBLISHED-TTL:PT1H
BEGIN:VTIMEZONE
TZID:Asia/Kuala_Lumpur
BEGIN:STANDARD
TZOFFSETFROM:+0800
TZOFFSETTO:+0800
TZNAME:+08
DTSTART:20250101T000000
END:STANDARD
END:VTIMEZONE
BEGIN:VEVENT
DTSTART;TZID=Asia/Kuala_Lumpur:20260418T093000
DTEND;TZID=Asia/Kuala_Lumpur:20260418T123000
DTSTAMP:20260423T192724
CREATED:20260414T154648Z
LAST-MODIFIED:20260414T154648Z
UID:4125-1776504600-1776515400@kelabpetanda.nadi.my
SUMMARY:TINY TECHIES-Robotic Innovation S1
DESCRIPTION:
URL:https://kelabpetanda.nadi.my/event/tiny-techies-robotic-innovation-s1/
END:VEVENT
END:VCALENDAR